BEGIN:VCALENDAR
VERSION:2.0
PRODID:-//Kirchspiel Thonhausen - ECPv6.13.0//NONSGML v1.0//EN
CALSCALE:GREGORIAN
METHOD:PUBLISH
X-ORIGINAL-URL:https://kirchspiel-thonhausen.de
X-WR-CALDESC:Veranstaltungen für Kirchspiel Thonhausen
REFRESH-INTERVAL;VALUE=DURATION:PT1H
X-Robots-Tag:noindex
X-PUBLISHED-TTL:PT1H
BEGIN:VTIMEZONE
TZID:Europe/Berlin
BEGIN:DAYLIGHT
TZOFFSETFROM:+0100
TZOFFSETTO:+0200
TZNAME:CEST
DTSTART:20260329T010000
END:DAYLIGHT
BEGIN:STANDARD
TZOFFSETFROM:+0200
TZOFFSETTO:+0100
TZNAME:CET
DTSTART:20261025T010000
END:STANDARD
END:VTIMEZONE
BEGIN:VEVENT
DTSTART;TZID=Europe/Berlin:20260418T140000
DTEND;TZID=Europe/Berlin:20260418T150000
DTSTAMP:20260422T170748
CREATED:20260326T111706Z
LAST-MODIFIED:20260326T111706Z
UID:7347-1776520800-1776524400@kirchspiel-thonhausen.de
SUMMARY:Gottesdienst mit Taufe in Mennsdorf
DESCRIPTION:
URL:https://kirchspiel-thonhausen.de/event/gottesdienst-mit-taufe-in-mennsdorf/
CATEGORIES:Gottesdienst
END:VEVENT
BEGIN:VEVENT
DTSTART;TZID=Europe/Berlin:20260406T140000
DTEND;TZID=Europe/Berlin:20260406T160000
DTSTAMP:20260422T170748
CREATED:20260108T125024Z
LAST-MODIFIED:20260331T150039Z
UID:7306-1775484000-1775491200@kirchspiel-thonhausen.de
SUMMARY:Ostermontag - Festgottesdienst mit Orgelweihe & Kirchenchor in Heukewalde
DESCRIPTION:
URL:https://kirchspiel-thonhausen.de/event/ostersonntag-festgottesdienst-mit-orgelweihe-kirchenchor-in-heukewalde/
CATEGORIES:Gottesdienst
END:VEVENT
BEGIN:VEVENT
DTSTART;TZID=Europe/Berlin:20260406T101500
DTEND;TZID=Europe/Berlin:20260406T110000
DTSTAMP:20260422T170748
CREATED:20260108T124922Z
LAST-MODIFIED:20260331T145848Z
UID:7304-1775470500-1775473200@kirchspiel-thonhausen.de
SUMMARY:Ostermontag - Gottesdienst in Paitzdorf
DESCRIPTION:
URL:https://kirchspiel-thonhausen.de/event/ostersonntag-gottesdienst-in-paitzdorf/
CATEGORIES:Gottesdienst
END:VEVENT
BEGIN:VEVENT
DTSTART;TZID=Europe/Berlin:20260406T090000
DTEND;TZID=Europe/Berlin:20260406T100000
DTSTAMP:20260422T170748
CREATED:20260108T124811Z
LAST-MODIFIED:20260331T145920Z
UID:7302-1775466000-1775469600@kirchspiel-thonhausen.de
SUMMARY:Ostermontag - Gottesdienst in Nischwitz
DESCRIPTION:
URL:https://kirchspiel-thonhausen.de/event/ostermontag-gottesdienst-in-nischwitz-2/
CATEGORIES:Gottesdienst
END:VEVENT
BEGIN:VEVENT
DTSTART;TZID=Europe/Berlin:20260405T101500
DTEND;TZID=Europe/Berlin:20260405T113000
DTSTAMP:20260422T170748
CREATED:20260108T124703Z
LAST-MODIFIED:20260108T124703Z
UID:7298-1775384100-1775388600@kirchspiel-thonhausen.de
SUMMARY:Ostersonntag - Familienkirche in Braunichswalde
DESCRIPTION:
URL:https://kirchspiel-thonhausen.de/event/ostersonntag-familienkirche-in-braunichswalde/
CATEGORIES:Gottesdienst
END:VEVENT
BEGIN:VEVENT
DTSTART;TZID=Europe/Berlin:20260405T101500
DTEND;TZID=Europe/Berlin:20260405T110000
DTSTAMP:20260422T170748
CREATED:20260108T124741Z
LAST-MODIFIED:20260108T124741Z
UID:7300-1775384100-1775386800@kirchspiel-thonhausen.de
SUMMARY:Ostersonntag - Gottesdienst Vollmershain
DESCRIPTION:
URL:https://kirchspiel-thonhausen.de/event/ostersonntag-gottesdienst-vollmershain/
CATEGORIES:Gottesdienst
END:VEVENT
BEGIN:VEVENT
DTSTART;TZID=Europe/Berlin:20260405T101500
DTEND;TZID=Europe/Berlin:20260405T110000
DTSTAMP:20260422T170748
CREATED:20260108T124627Z
LAST-MODIFIED:20260108T124627Z
UID:7296-1775384100-1775386800@kirchspiel-thonhausen.de
SUMMARY:Ostersonntag - Gottesdienst in Linda
DESCRIPTION:
URL:https://kirchspiel-thonhausen.de/event/ostersonntag-gottesdienst-in-linda/
CATEGORIES:Gottesdienst
END:VEVENT
BEGIN:VEVENT
DTSTART;TZID=Europe/Berlin:20260405T090000
DTEND;TZID=Europe/Berlin:20260405T100000
DTSTAMP:20260422T170748
CREATED:20260108T124549Z
LAST-MODIFIED:20260108T124549Z
UID:7294-1775379600-1775383200@kirchspiel-thonhausen.de
SUMMARY:Ostersonntag - Gottesdienst in Wettelswalde
DESCRIPTION:
URL:https://kirchspiel-thonhausen.de/event/ostersonntag-gottesdienst-in-wettelswalde-2/
CATEGORIES:Gottesdienst
END:VEVENT
BEGIN:VEVENT
DTSTART;TZID=Europe/Berlin:20260405T090000
DTEND;TZID=Europe/Berlin:20260405T100000
DTSTAMP:20260422T170748
CREATED:20260108T124459Z
LAST-MODIFIED:20260331T145551Z
UID:7292-1775379600-1775383200@kirchspiel-thonhausen.de
SUMMARY:Ostersonntag - Gottesdienst in Linda
DESCRIPTION:
URL:https://kirchspiel-thonhausen.de/event/ostersonntag-gottesdienst-in-wettelswalde/
CATEGORIES:Gottesdienst
END:VEVENT
BEGIN:VEVENT
DTSTART;TZID=Europe/Berlin:20260405T090000
DTEND;TZID=Europe/Berlin:20260405T100000
DTSTAMP:20260422T170748
CREATED:20260108T124427Z
LAST-MODIFIED:20260108T124427Z
UID:7290-1775379600-1775383200@kirchspiel-thonhausen.de
SUMMARY:Ostersonntag - Gottesdienst in Mannichswalde
DESCRIPTION:
URL:https://kirchspiel-thonhausen.de/event/ostersonntag-gottesdienst-in-mannichswalde-2/
CATEGORIES:Gottesdienst
END:VEVENT
BEGIN:VEVENT
DTSTART;TZID=Europe/Berlin:20260405T060000
DTEND;TZID=Europe/Berlin:20260405T080000
DTSTAMP:20260422T170748
CREATED:20260108T124355Z
LAST-MODIFIED:20260108T124355Z
UID:7288-1775368800-1775376000@kirchspiel-thonhausen.de
SUMMARY:Ostersonntag - Gottesdienst mit Osterfrühstück in Haselbach
DESCRIPTION:
URL:https://kirchspiel-thonhausen.de/event/ostersonntag-gottesdienst-mit-osterfruehstueck-in-haselbach/
CATEGORIES:Gottesdienst
END:VEVENT
BEGIN:VEVENT
DTSTART;TZID=Europe/Berlin:20260403T151500
DTEND;TZID=Europe/Berlin:20260403T163000
DTSTAMP:20260422T170748
CREATED:20260108T122035Z
LAST-MODIFIED:20260108T122035Z
UID:7286-1775229300-1775233800@kirchspiel-thonhausen.de
SUMMARY:Karfreitag - Gottesdienst mit Feier des Heiligen Abendmahls in Reust
DESCRIPTION:
URL:https://kirchspiel-thonhausen.de/event/karfreitag-gottesdienst-mit-feier-des-heiligen-abendmahls-in-reust/
CATEGORIES:Gottesdienst
END:VEVENT
BEGIN:VEVENT
DTSTART;TZID=Europe/Berlin:20260403T140000
DTEND;TZID=Europe/Berlin:20260403T150000
DTSTAMP:20260422T170748
CREATED:20260108T121953Z
LAST-MODIFIED:20260108T121953Z
UID:7284-1775224800-1775228400@kirchspiel-thonhausen.de
SUMMARY:Karfreitag - Gottesdienst mit Feier des Heiligen Abendmahls in Vogelgesang
DESCRIPTION:
URL:https://kirchspiel-thonhausen.de/event/karfreitag-gottesdienst-mit-feier-des-heiligen-abendmahls-in-vogelgesang/
CATEGORIES:Gottesdienst
END:VEVENT
BEGIN:VEVENT
DTSTART;TZID=Europe/Berlin:20260403T101500
DTEND;TZID=Europe/Berlin:20260403T110000
DTSTAMP:20260422T170748
CREATED:20260108T121914Z
LAST-MODIFIED:20260108T121914Z
UID:7282-1775211300-1775214000@kirchspiel-thonhausen.de
SUMMARY:Karfreitag - Gottesdienst mit Feier des Heiligen Abendmahls in Mennsdorf
DESCRIPTION:
URL:https://kirchspiel-thonhausen.de/event/karfreitag-gottesdienst-mit-feier-des-heiligen-abendmahls-in-mennsdorf/
CATEGORIES:Gottesdienst
END:VEVENT
BEGIN:VEVENT
DTSTART;TZID=Europe/Berlin:20260403T090000
DTEND;TZID=Europe/Berlin:20260403T100000
DTSTAMP:20260422T170748
CREATED:20260108T121834Z
LAST-MODIFIED:20260108T121834Z
UID:7280-1775206800-1775210400@kirchspiel-thonhausen.de
SUMMARY:Karfreitag - Gottesdienst mit Feier des Heiligen Abendmahls in Gauern
DESCRIPTION:
URL:https://kirchspiel-thonhausen.de/event/karfreitag-gottesdienst-mit-feier-des-heiligen-abendmahls-in-gauern/
CATEGORIES:Gottesdienst
END:VEVENT
BEGIN:VEVENT
DTSTART;TZID=Europe/Berlin:20260402T180000
DTEND;TZID=Europe/Berlin:20260402T190000
DTSTAMP:20260422T170748
CREATED:20260108T121750Z
LAST-MODIFIED:20260108T121750Z
UID:7278-1775152800-1775156400@kirchspiel-thonhausen.de
SUMMARY:Gründonnerstag - Gottesdienst mit Feier des Heiligen Abendmahls & Fußwaschung in Rückersdorf
DESCRIPTION:
URL:https://kirchspiel-thonhausen.de/event/gruendonnerstag-gottesdienst-mit-feier-des-heiligen-abendmahls-fusswaschung-in-rueckersdorf/
CATEGORIES:Gottesdienst
END:VEVENT
BEGIN:VEVENT
DTSTART;TZID=Europe/Berlin:20260402T180000
DTEND;TZID=Europe/Berlin:20260402T190000
DTSTAMP:20260422T170748
CREATED:20260108T121637Z
LAST-MODIFIED:20260326T110449Z
UID:7276-1775152800-1775156400@kirchspiel-thonhausen.de
SUMMARY:Gründonnerstag - Abendmahlsgottesdienst & Kindermusical in Jonaswalde
DESCRIPTION:
URL:https://kirchspiel-thonhausen.de/event/gruendonnerstag-abendmahlsgottesdienst-kindermusical-in-jonaswalde/
CATEGORIES:Gottesdienst
ATTACH;FMTTYPE=image/jpeg:https://kirchspiel-thonhausen.de/wp-content/uploads/2026/01/WhatsApp-Image-2026-03-26-at-11.17.01.jpeg
END:VEVENT
BEGIN:VEVENT
DTSTART;TZID=Europe/Berlin:20260329T101500
DTEND;TZID=Europe/Berlin:20260329T110000
DTSTAMP:20260422T170748
CREATED:20260108T121523Z
LAST-MODIFIED:20260108T121523Z
UID:7274-1774779300-1774782000@kirchspiel-thonhausen.de
SUMMARY:Palmarum - Gottesdienst mit Feier des Heiligen Abendmahls in Vogelgesang
DESCRIPTION:
URL:https://kirchspiel-thonhausen.de/event/palmarum-gottesdienst-mit-feier-des-heiligen-abendmahls-in-vogelgesang/
CATEGORIES:Gottesdienst
END:VEVENT
BEGIN:VEVENT
DTSTART;TZID=Europe/Berlin:20260329T101500
DTEND;TZID=Europe/Berlin:20260329T110000
DTSTAMP:20260422T170748
CREATED:20260108T121447Z
LAST-MODIFIED:20260108T121447Z
UID:7271-1774779300-1774782000@kirchspiel-thonhausen.de
SUMMARY:Palmarum - Gottesdienst mit Feier des Heiligen Abendmahls in Heukewalde
DESCRIPTION:2026_Choräle_Heukewalde
URL:https://kirchspiel-thonhausen.de/event/palmarum-gottesdienst-mit-feier-des-heiligen-abendmahls-in-heukewalde/
CATEGORIES:Gottesdienst
END:VEVENT
BEGIN:VEVENT
DTSTART;TZID=Europe/Berlin:20260329T090000
DTEND;TZID=Europe/Berlin:20260329T100000
DTSTAMP:20260422T170748
CREATED:20260108T121339Z
LAST-MODIFIED:20260108T121339Z
UID:7269-1774774800-1774778400@kirchspiel-thonhausen.de
SUMMARY:Palmarum - Gottesdienst mit Feier des Heiligen Abendmahls in Pohlen
DESCRIPTION:
URL:https://kirchspiel-thonhausen.de/event/palmarum-gottesdienst-mit-feier-des-heiligen-abendmahls-in-pohlen/
END:VEVENT
BEGIN:VEVENT
DTSTART;TZID=Europe/Berlin:20260328T170000
DTEND;TZID=Europe/Berlin:20260328T180000
DTSTAMP:20260422T170748
CREATED:20260108T120441Z
LAST-MODIFIED:20260108T120441Z
UID:7255-1774717200-1774720800@kirchspiel-thonhausen.de
SUMMARY:Fastenandacht in Haselbach - S A N F T E  T Ö N E
DESCRIPTION:1. Samuel 16\,14.23 \nWas kann ich tun\, wenn es einem Freund\, einer Freundin schlecht geht? Davids Harfenspiel erreicht die Seele. Und ich? Habe ich auch ein Talent\, mit dem ich Menschen in Not Gutes tun kann?
URL:https://kirchspiel-thonhausen.de/event/fastenandacht-in-haselbach-s-a-n-f-t-e-t-oe-n-e/
CATEGORIES:Veranstaltungen und Hinweise
ATTACH;FMTTYPE=image/jpeg:https://kirchspiel-thonhausen.de/wp-content/uploads/2025/12/Logo-ohne-Claim-1.jpg
END:VEVENT
BEGIN:VEVENT
DTSTART;TZID=Europe/Berlin:20260322T101500
DTEND;TZID=Europe/Berlin:20260322T110000
DTSTAMP:20260422T170748
CREATED:20260108T121206Z
LAST-MODIFIED:20260108T121206Z
UID:7267-1774174500-1774177200@kirchspiel-thonhausen.de
SUMMARY:Judika - Gottesdienst in Linda
DESCRIPTION:
URL:https://kirchspiel-thonhausen.de/event/judika-gottesdienst-in-linda/
CATEGORIES:Gottesdienst
END:VEVENT
BEGIN:VEVENT
DTSTART;TZID=Europe/Berlin:20260321T170000
DTEND;TZID=Europe/Berlin:20260321T180000
DTSTAMP:20260422T170748
CREATED:20260108T120258Z
LAST-MODIFIED:20260108T120607Z
UID:7252-1774112400-1774116000@kirchspiel-thonhausen.de
SUMMARY:Fastenandacht in Haselbach - N A C H F R A G E N
DESCRIPTION:Lukas 10\,29  \nEin Gegenmittel zu einem harten Gesprächsabbruch\nist Nachfragen: Ich verstehe dich nicht – erkläre mir deine Sicht! Gerade\, wenn es um Fragen von Mitgefühl und Nächstenliebe geht. Wie nahe lasse ich das Schicksal von Menschen an mich rankommen\, die ich vielleicht gar nicht kenne? Da müssen wir drüber reden!
URL:https://kirchspiel-thonhausen.de/event/fastenandacht-in-haselbach-n-a-c-h-f-r-a-g-e-n/
CATEGORIES:Veranstaltungen und Hinweise
ATTACH;FMTTYPE=image/jpeg:https://kirchspiel-thonhausen.de/wp-content/uploads/2025/12/Logo-ohne-Claim-1.jpg
END:VEVENT
BEGIN:VEVENT
DTSTART;TZID=Europe/Berlin:20260315T101500
DTEND;TZID=Europe/Berlin:20260315T110000
DTSTAMP:20260422T170748
CREATED:20260108T121116Z
LAST-MODIFIED:20260108T121116Z
UID:7265-1773569700-1773572400@kirchspiel-thonhausen.de
SUMMARY:Lätare - Gottesdienst in Reust
DESCRIPTION:
URL:https://kirchspiel-thonhausen.de/event/laetare-gottesdienst-in-reust/
CATEGORIES:Gottesdienst
END:VEVENT
BEGIN:VEVENT
DTSTART;TZID=Europe/Berlin:20260315T101500
DTEND;TZID=Europe/Berlin:20260315T110000
DTSTAMP:20260422T170748
CREATED:20260108T121020Z
LAST-MODIFIED:20260108T121020Z
UID:7263-1773569700-1773572400@kirchspiel-thonhausen.de
SUMMARY:Lätare - Gottesdienst in Mannichswalde
DESCRIPTION:
URL:https://kirchspiel-thonhausen.de/event/laetare-gottesdienst-in-mannichswalde/
CATEGORIES:Gottesdienst
END:VEVENT
BEGIN:VEVENT
DTSTART;TZID=Europe/Berlin:20260315T090000
DTEND;TZID=Europe/Berlin:20260315T100000
DTSTAMP:20260422T170748
CREATED:20260108T120932Z
LAST-MODIFIED:20260108T120932Z
UID:7261-1773565200-1773568800@kirchspiel-thonhausen.de
SUMMARY:Lätare - Gottesdienst im Martin-Luther-Haus Braunichswalde
DESCRIPTION:
URL:https://kirchspiel-thonhausen.de/event/laetare-gottesdienst-im-martin-luther-haus-braunichswalde/
CATEGORIES:Gottesdienst
END:VEVENT
BEGIN:VEVENT
DTSTART;TZID=Europe/Berlin:20260315T090000
DTEND;TZID=Europe/Berlin:20260315T100000
DTSTAMP:20260422T170748
CREATED:20260108T120837Z
LAST-MODIFIED:20260108T120837Z
UID:7259-1773565200-1773568800@kirchspiel-thonhausen.de
SUMMARY:Lätare - Gottesdienst in Gauern
DESCRIPTION:
URL:https://kirchspiel-thonhausen.de/event/laetare-gottesdienst-in-gauern-2/
CATEGORIES:Gottesdienst
END:VEVENT
BEGIN:VEVENT
DTSTART;TZID=Europe/Berlin:20260314T170000
DTEND;TZID=Europe/Berlin:20260314T180000
DTSTAMP:20260422T170748
CREATED:20251218T110322Z
LAST-MODIFIED:20260108T120023Z
UID:7205-1773507600-1773511200@kirchspiel-thonhausen.de
SUMMARY:Fastenandacht in Haselbach - M I T G E F Ü H L
DESCRIPTION:Römer 12\,15  \nEs ist eine Kunst: Mitschwingen mit den Gefühlen anderer\, ohne den Boden unter den Füßen zu verlieren. Wir üben das empathische Mitweinen und Mitfreuen. Fragt sich\, was von beidem leichter ist?
URL:https://kirchspiel-thonhausen.de/event/fastenandacht-in-haselbach-m-i-t-g-e-f-ue-h-l/
CATEGORIES:Veranstaltungen und Hinweise
ATTACH;FMTTYPE=image/jpeg:https://kirchspiel-thonhausen.de/wp-content/uploads/2025/12/Logo-ohne-Claim-1.jpg
END:VEVENT
BEGIN:VEVENT
DTSTART;TZID=Europe/Berlin:20260308T101500
DTEND;TZID=Europe/Berlin:20260308T110000
DTSTAMP:20260422T170748
CREATED:20251218T110811Z
LAST-MODIFIED:20251218T110811Z
UID:7212-1772964900-1772967600@kirchspiel-thonhausen.de
SUMMARY:"Kommt! Bringt eure Last! - Gottesdienst zum Weltgebetstag im Gemeindehaus Paitzdorf
DESCRIPTION:Herzliche Einladung zum Weltgebetstag im Gemeindehaus Paitzdorf mit Ines Pautzsch. \n.
URL:https://kirchspiel-thonhausen.de/event/kommt-bringt-eure-last-gottesdienst-zum-weltgebetstag-im-gemeindehaus-paitzdorf/
CATEGORIES:Gottesdienst
ATTACH;FMTTYPE=image/jpeg:https://kirchspiel-thonhausen.de/wp-content/uploads/2025/12/WGT_Banner_2026_Nigeria_web5.jpg
END:VEVENT
BEGIN:VEVENT
DTSTART;TZID=Europe/Berlin:20260308T101500
DTEND;TZID=Europe/Berlin:20260308T110000
DTSTAMP:20260422T170748
CREATED:20251218T110441Z
LAST-MODIFIED:20251218T110441Z
UID:7210-1772964900-1772967600@kirchspiel-thonhausen.de
SUMMARY:Okuli - Gottesdienst in Nischwitz
DESCRIPTION:
URL:https://kirchspiel-thonhausen.de/event/okuli-gottesdienst-in-nischwitz/
CATEGORIES:Gottesdienst
END:VEVENT
END:VCALENDAR